BEGIN:VCALENDAR
VERSION:2.0
PRODID:-//Piedmont CASA - ECPv6.15.11//NONSGML v1.0//EN
CALSCALE:GREGORIAN
METHOD:PUBLISH
X-ORIGINAL-URL:https://pcasa.org
X-WR-CALDESC:Events for Piedmont CASA
REFRESH-INTERVAL;VALUE=DURATION:PT1H
X-Robots-Tag:noindex
X-PUBLISHED-TTL:PT1H
BEGIN:VTIMEZONE
TZID:UTC
BEGIN:STANDARD
TZOFFSETFROM:+0000
TZOFFSETTO:+0000
TZNAME:UTC
DTSTART:20180101T000000
END:STANDARD
END:VTIMEZONE
BEGIN:VEVENT
DTSTART;TZID=UTC:20230313T073000
DTEND;TZID=UTC:20230313T083000
DTSTAMP:20260421T152708
CREATED:20221202T121310Z
LAST-MODIFIED:20230712T192247Z
UID:3332-1678692600-1678696200@pcasa.org
SUMMARY:Jimmy "Magic Man" Miller's Bracket Breakfast
DESCRIPTION:PHOTOS – Bracket Breakfast 2023
URL:https://pcasa.org/event/jimmy-magic-man-millers-bracket-breakfast/
LOCATION:Boar’s Head Resort\, 860 Boar's Head Resort\, Charlottesville\, VA\, 22903\, United States
ATTACH;FMTTYPE=image/jpeg:https://pcasa.org/wp-content/uploads/2022/12/Bracket-Breakfast-Logo-with-Jim-Date-on-Orange-2023.jpg
ORGANIZER;CN="Piedmont CASA":MAILTO:lboris@pcasa.org
END:VEVENT
BEGIN:VEVENT
DTSTART;TZID=UTC:20221011T170000
DTEND;TZID=UTC:20221011T200000
DTSTAMP:20260421T152708
CREATED:20220822T151258Z
LAST-MODIFIED:20220822T151258Z
UID:2906-1665507600-1665518400@pcasa.org
SUMMARY:Fall Picnic for Piedmont CASA Volunteers
DESCRIPTION:Dear Piedmont CASA Volunteers: we’d like to celebrate the amazing work you do!  Please join us for a Fall Picnic at Meriwether Springs! Bring your partner and meet some of the 70+ Volunteers who are currently active. To find out more and register Click here!
URL:https://pcasa.org/event/fall-picnic-for-piedmont-casa-volunteers/
LOCATION:1040 Owensville Rd.\, Charlottesville\, VA\, 22901\, United States
ATTACH;FMTTYPE=image/jpeg:https://pcasa.org/wp-content/uploads/2022/08/Fall-Picnic-for-Social-Media-Join-Us-400.jpg
ORGANIZER;CN="Piedmont CASA":MAILTO:lboris@pcasa.org
END:VEVENT
BEGIN:VEVENT
DTSTART;TZID=UTC:20220503T170000
DTEND;TZID=UTC:20220503T200000
DTSTAMP:20260421T152708
CREATED:20220630T175146Z
LAST-MODIFIED:20220630T175146Z
UID:2772-1651597200-1651608000@pcasa.org
SUMMARY:Pour It Forward Kick Off Party
DESCRIPTION:Come join the Piedmont CASA Team at Random Row for a Pour It Forward Kick Off Party! For the entire month of May\, Random Row will donate $1 for every pour of “Night Watchman Porter” to Piedmont CASA. Thank you Random Row – for supporting the work of our Piedmont CASA Volunteers and Bridges to Success Coaches!
URL:https://pcasa.org/event/pour-it-forward-kick-off-party/
LOCATION:Random Row Brewing Company\, 608 Preston Ave.\, Charlottesville\, Virginia\, 22903
ATTACH;FMTTYPE=image/jpeg:https://pcasa.org/wp-content/uploads/2022/04/Pour-it-forward-1000.jpg
END:VEVENT
BEGIN:VEVENT
DTSTART;TZID=UTC:20220502T080000
DTEND;TZID=UTC:20220531T170000
DTSTAMP:20260421T152708
CREATED:20220802T040946Z
LAST-MODIFIED:20220802T040946Z
UID:2819-1651478400-1654016400@pcasa.org
SUMMARY:Bluebird Project 2022
DESCRIPTION:Bluebird Art 2022
URL:https://pcasa.org/event/bluebird-project-2022/
ATTACH;FMTTYPE=image/jpeg:https://pcasa.org/wp-content/uploads/2022/05/CASAblurbirds-invisible-ground-AUCTION-USE-THIS-1.jpg
END:VEVENT
BEGIN:VEVENT
DTSTART;TZID=UTC:20211019T080000
DTEND;TZID=UTC:20211019T170000
DTSTAMP:20260421T152708
CREATED:20220802T034738Z
LAST-MODIFIED:20220802T034901Z
UID:2809-1634630400-1634662800@pcasa.org
SUMMARY:PCASA Volunteer Picnic
DESCRIPTION:On Tuesday\, October 19\, we held our first Volunteer Picnic in seven years. Seventy-seven CASA Volunteers registered and we had the beautiful Meriwether Springs Vineyard & Brewery completely to ourselves – so there was plenty of room for social distancing\, both inside and outside. \nPiedmont CASA President Kate Duvall and CASA Supervisor Sherri Rosser announced the Ruth Stone Advocates of the Year: Mary Nafpaktitis for 2020 and Grace Giras for 2021. Then there was a surprise award for our longest serving CASA Supervisor\, Kati Naess. \nIt was a lovely autumnal evening – and we are already looking forward to next year! \n  \n  \nBridges Coach Leah Cole with CASA Supervisors Sherri Rosser\, Alison Taravella\, Kati Naess\, and Steve Dufort. \nCASA Volunteers Dan Alexander and Diane Dale. \nPiedmont CASA President Kate Duvall announces award winners. \nCASA Supervisor Kati Naess\, Friends of CASA Co-Chair Michi Burke\, and PCASA Board member Annie Izard. \n  \nA toast to CASA Supervisor Kati Naess.
URL:https://pcasa.org/event/pcasa-volunteer-picnic/
ATTACH;FMTTYPE=image/jpeg:https://pcasa.org/wp-content/uploads/2021/12/Picnic-tables-2.jpg
END:VEVENT
BEGIN:VEVENT
DTSTART;TZID=UTC:20210930T080000
DTEND;TZID=UTC:20210930T170000
DTSTAMP:20260421T152708
CREATED:20220808T153319Z
LAST-MODIFIED:20220808T153319Z
UID:2874-1632988800-1633021200@pcasa.org
SUMMARY:Impact of Poverty on Families
DESCRIPTION:Our guest speaker was Ridge Schuyler\, Dean of Community Self Sufficiency at Piedmont Virginia Community College. It took place on September 30 at noon.
URL:https://pcasa.org/event/impact-of-poverty-on-families/
END:VEVENT
BEGIN:VEVENT
DTSTART;TZID=UTC:20210909T080000
DTEND;TZID=UTC:20210909T170000
DTSTAMP:20260421T152708
CREATED:20220802T035309Z
LAST-MODIFIED:20220802T035309Z
UID:2813-1631174400-1631206800@pcasa.org
SUMMARY:PFLAG Training: The Needs of Transgender Youth
DESCRIPTION:Link to Recording:
URL:https://pcasa.org/event/pflag-training-the-needs-of-transgender-youth/
ATTACH;FMTTYPE=image/jpeg:https://pcasa.org/wp-content/uploads/2021/09/Transgender-youth-in-cape.jpg
END:VEVENT
BEGIN:VEVENT
DTSTART;TZID=UTC:20210510T080000
DTEND;TZID=UTC:20210531T170000
DTSTAMP:20260421T152708
CREATED:20220802T035638Z
LAST-MODIFIED:20220802T035638Z
UID:2815-1620633600-1622480400@pcasa.org
SUMMARY:Bluebird Project: 2021
DESCRIPTION:Bluebird Art 2021
URL:https://pcasa.org/event/bluebird-project-2021/
ATTACH;FMTTYPE=image/jpeg:https://pcasa.org/wp-content/uploads/2022/05/CASAblurbirds-invisible-ground-AUCTION-USE-THIS-1.jpg
END:VEVENT
BEGIN:VEVENT
DTSTART;TZID=UTC:20210428T080000
DTEND;TZID=UTC:20210428T170000
DTSTAMP:20260421T152708
CREATED:20220808T153125Z
LAST-MODIFIED:20220808T153125Z
UID:2872-1619596800-1619629200@pcasa.org
SUMMARY:Working to End the Cycle
DESCRIPTION:Our guest speaker was Liesel Robinson\, Shelter for Help in Emergency. The webinar took place on 28 April 2021 at 10:00 am.
URL:https://pcasa.org/event/working-to-end-the-cycle/
END:VEVENT
BEGIN:VEVENT
DTSTART;TZID=UTC:20210208T080000
DTEND;TZID=UTC:20210208T170000
DTSTAMP:20260421T152708
CREATED:20220808T153441Z
LAST-MODIFIED:20220808T153441Z
UID:2876-1612771200-1612803600@pcasa.org
SUMMARY:Emotional Effects of the Pandemic on Mental Health
DESCRIPTION:Our guest speaker was Paige Nolt\, MSW\, LCSW. This webinar took place on February 8\, at 10:00 AM.
URL:https://pcasa.org/event/emotional-effects-of-the-pandemic-on-mental-health/
END:VEVENT
BEGIN:VEVENT
DTSTART;TZID=UTC:20201001T080000
DTEND;TZID=UTC:20201028T170000
DTSTAMP:20260421T152708
CREATED:20220802T040403Z
LAST-MODIFIED:20220802T040403Z
UID:2817-1601539200-1603904400@pcasa.org
SUMMARY:Curious Cake Auction: Halloween 2020
DESCRIPTION:https://curious-cakes.constantcontactsites.com/
URL:https://pcasa.org/event/curious-cake-auction-halloween-2020/
ATTACH;FMTTYPE=image/jpeg:https://pcasa.org/wp-content/uploads/2020/10/Seven-Curious-Cakes-Revealed.jpg
END:VEVENT
BEGIN:VEVENT
DTSTART;TZID=UTC:20200502T080000
DTEND;TZID=UTC:20200531T170000
DTSTAMP:20260421T152708
CREATED:20220802T041813Z
LAST-MODIFIED:20220802T041813Z
UID:2821-1588406400-1590944400@pcasa.org
SUMMARY:Bluebird Project 2020
DESCRIPTION:
URL:https://pcasa.org/event/bluebird-project-2020/
ATTACH;FMTTYPE=image/jpeg:https://pcasa.org/wp-content/uploads/2022/05/CASAblurbirds-invisible-ground-AUCTION-USE-THIS-1.jpg
END:VEVENT
BEGIN:VEVENT
DTSTART;TZID=UTC:20190502T080000
DTEND;TZID=UTC:20190531T170000
DTSTAMP:20260421T152708
CREATED:20220802T041926Z
LAST-MODIFIED:20220802T042802Z
UID:2823-1556784000-1559322000@pcasa.org
SUMMARY:Bluebird Project 2019 (Parade)
DESCRIPTION:
URL:https://pcasa.org/event/bluebird-project-2019-parade/
ATTACH;FMTTYPE=image/jpeg:https://pcasa.org/wp-content/uploads/2022/05/CASAblurbirds-invisible-ground-AUCTION-USE-THIS-1.jpg
END:VEVENT
END:VCALENDAR